BEGIN:VCALENDAR
VERSION:2.0
PRODID:-//Kalender//1.0//DE
METHOD:REQUEST
BEGIN:VEVENT
ORGANIZER:MAILTO:webmaster@grell-netz.de
SUMMARY:Ostersonntag 
DTSTART:20150405T000000
DTEND:20150406T000000
END:VEVENT
END:VCALENDAR
