BEGIN:VCALENDAR
VERSION:2.0
PRODID:-//Kalender//1.0//DE
METHOD:REQUEST
BEGIN:VEVENT
ORGANIZER:MAILTO:webmaster@grell-netz.de
SUMMARY:7418250
DESCRIPTION;ENCODING=QUOTED-PRINTABLE:hallo=0D=0A=
=0D=0A=

DTSTART:20110604T001200
DTEND:20110605T001200
END:VEVENT
END:VCALENDAR
