BEGIN:VCALENDAR
VERSION:2.0
PRODID:-//Kalender//1.0//DE
METHOD:REQUEST
BEGIN:VEVENT
ORGANIZER:MAILTO:webmaster@grell-netz.de
LOCATION;ENCODING=QUOTED-PRINTABLE:Schlumpfhausen
SUMMARY:testtermin
DTSTART:20250202T000000
DTEND:20250203T000000
END:VEVENT
END:VCALENDAR
